BEGIN:VCALENDAR
VERSION:2.0
PRODID:-//Tukios.com/
BEGIN:VEVENT
UID:d7b0086d-1b2d-4344-aeee-d0f38cf70f62@www.krinerfuneralhomes.com
DTSTAMP:20260425T020038Z
DTSTART:20260430T150000Z
DTEND:20260430T160000Z
SUMMARY:Funeral Service
DESCRIPTION:
URL:https://www.krinerfuneralhomes.com/obituaries/myrle-sharrow
LOCATION:New Hope Church 6405 4th Street  Bloomsburg PA 17815
GEO:41.0254539;-76.3429183
END:VEVENT
END:VCALENDAR