BEGIN:VCALENDAR
VERSION:2.0
PRODID:-//Tukios.com/
BEGIN:VEVENT
UID:500362dd-f49d-4830-813e-38919eb3d60c@www.krinerfuneralhomes.com
DTSTAMP:20260425T020155Z
DTSTART:20260430T140000Z
DTEND:20260430T150000Z
SUMMARY:Viewing
DESCRIPTION:
URL:https://www.krinerfuneralhomes.com/obituaries/myrle-sharrow
LOCATION:New Hope Church 6405 4th Street  Bloomsburg PA 17815
GEO:41.0254539;-76.3429183
END:VEVENT
END:VCALENDAR